BEGIN:VCALENDAR
VERSION:2.0
PRODID:-//OC Delmenhorst e. V. im ADAC - ECPv6.15.20//NONSGML v1.0//EN
CALSCALE:GREGORIAN
METHOD:PUBLISH
X-WR-CALNAME:OC Delmenhorst e. V. im ADAC
X-ORIGINAL-URL:https://oc-delmenhorst.de
X-WR-CALDESC:Veranstaltungen für OC Delmenhorst e. V. im ADAC
REFRESH-INTERVAL;VALUE=DURATION:PT1H
X-Robots-Tag:noindex
X-PUBLISHED-TTL:PT1H
BEGIN:VTIMEZONE
TZID:Europe/Berlin
BEGIN:DAYLIGHT
TZOFFSETFROM:+0100
TZOFFSETTO:+0200
TZNAME:CEST
DTSTART:20250330T010000
END:DAYLIGHT
BEGIN:STANDARD
TZOFFSETFROM:+0200
TZOFFSETTO:+0100
TZNAME:CET
DTSTART:20251026T010000
END:STANDARD
BEGIN:DAYLIGHT
TZOFFSETFROM:+0100
TZOFFSETTO:+0200
TZNAME:CEST
DTSTART:20260329T010000
END:DAYLIGHT
BEGIN:STANDARD
TZOFFSETFROM:+0200
TZOFFSETTO:+0100
TZNAME:CET
DTSTART:20261025T010000
END:STANDARD
BEGIN:DAYLIGHT
TZOFFSETFROM:+0100
TZOFFSETTO:+0200
TZNAME:CEST
DTSTART:20270328T010000
END:DAYLIGHT
BEGIN:STANDARD
TZOFFSETFROM:+0200
TZOFFSETTO:+0100
TZNAME:CET
DTSTART:20271031T010000
END:STANDARD
END:VTIMEZONE
BEGIN:VEVENT
DTSTART;TZID=Europe/Berlin:20260607T090000
DTEND;TZID=Europe/Berlin:20260607T180000
DTSTAMP:20260421T120752
CREATED:20260211T111219Z
LAST-MODIFIED:20260211T111219Z
UID:3856-1780822800-1780855200@oc-delmenhorst.de
SUMMARY:22. ADAC Oldtimer Klassik „Rund um die Hünengräber “
DESCRIPTION:Dieses Jahr findet die Veranstaltung mit neuem Fahrtleiter D. Grundmann Tel. 0176-45783434 statt. \nAufbau Samstag 6. Juni 2026 11:00 bis 14:00 Uhr. \nSonntag 7. Juni 2026 ab 09:00 Uhr Anmeldung im Autohaus Mock möglich. Das erste Team startet 11:01 Uhr.
URL:https://oc-delmenhorst.de/termin/22-adac-oldtimer-klassik-rund-um-die-huenengraeber/
LOCATION:Autohaus Mock\, Syker Straße 267 - 275\, Delmenhorst\, 27751\, Deutschland
END:VEVENT
END:VCALENDAR