BEGIN:VCALENDAR
VERSION:2.0
PRODID:-//OC Delmenhorst e. V. im ADAC - ECPv6.15.20//NONSGML v1.0//EN
CALSCALE:GREGORIAN
METHOD:PUBLISH
X-WR-CALNAME:OC Delmenhorst e. V. im ADAC
X-ORIGINAL-URL:https://oc-delmenhorst.de
X-WR-CALDESC:Veranstaltungen für OC Delmenhorst e. V. im ADAC
REFRESH-INTERVAL;VALUE=DURATION:PT1H
X-Robots-Tag:noindex
X-PUBLISHED-TTL:PT1H
BEGIN:VTIMEZONE
TZID:Europe/Berlin
BEGIN:DAYLIGHT
TZOFFSETFROM:+0100
TZOFFSETTO:+0200
TZNAME:CEST
DTSTART:20240331T010000
END:DAYLIGHT
BEGIN:STANDARD
TZOFFSETFROM:+0200
TZOFFSETTO:+0100
TZNAME:CET
DTSTART:20241027T010000
END:STANDARD
BEGIN:DAYLIGHT
TZOFFSETFROM:+0100
TZOFFSETTO:+0200
TZNAME:CEST
DTSTART:20250330T010000
END:DAYLIGHT
BEGIN:STANDARD
TZOFFSETFROM:+0200
TZOFFSETTO:+0100
TZNAME:CET
DTSTART:20251026T010000
END:STANDARD
BEGIN:DAYLIGHT
TZOFFSETFROM:+0100
TZOFFSETTO:+0200
TZNAME:CEST
DTSTART:20260329T010000
END:DAYLIGHT
BEGIN:STANDARD
TZOFFSETFROM:+0200
TZOFFSETTO:+0100
TZNAME:CET
DTSTART:20261025T010000
END:STANDARD
END:VTIMEZONE
BEGIN:VEVENT
DTSTART;TZID=Europe/Berlin:20250509T190000
DTEND;TZID=Europe/Berlin:20250509T220000
DTSTAMP:20260419T201620
CREATED:20250421T075630Z
LAST-MODIFIED:20250421T075630Z
UID:3700-1746817200-1746828000@oc-delmenhorst.de
SUMMARY:Club-Spargelessen
DESCRIPTION:Der Verein trifft sich zum alljährlichen Spargelessen\, dieses Jahr ab 19:00 Uhr\, 9. Mai 2025 im Gasthaus zur Linde in Ganderkesee/Kühlingen. \nAnmeldung bei Herrn Huntemann\, bitte bis zum 6. Mai.
URL:https://oc-delmenhorst.de/termin/club-spargelessen/
LOCATION:Gathaus zur Linde\, Kühlingerstraße 18\, Ganderkesee\, Niedersachsen\, 27777\, Germany
END:VEVENT
END:VCALENDAR