BEGIN:VCALENDAR
VERSION:2.0
PRODID:-//OC Delmenhorst e. V. im ADAC - ECPv6.15.20//NONSGML v1.0//EN
CALSCALE:GREGORIAN
METHOD:PUBLISH
X-WR-CALNAME:OC Delmenhorst e. V. im ADAC
X-ORIGINAL-URL:https://oc-delmenhorst.de
X-WR-CALDESC:Veranstaltungen für OC Delmenhorst e. V. im ADAC
REFRESH-INTERVAL;VALUE=DURATION:PT1H
X-Robots-Tag:noindex
X-PUBLISHED-TTL:PT1H
BEGIN:VTIMEZONE
TZID:Europe/Berlin
BEGIN:DAYLIGHT
TZOFFSETFROM:+0100
TZOFFSETTO:+0200
TZNAME:CEST
DTSTART:20220327T010000
END:DAYLIGHT
BEGIN:STANDARD
TZOFFSETFROM:+0200
TZOFFSETTO:+0100
TZNAME:CET
DTSTART:20221030T010000
END:STANDARD
BEGIN:DAYLIGHT
TZOFFSETFROM:+0100
TZOFFSETTO:+0200
TZNAME:CEST
DTSTART:20230326T010000
END:DAYLIGHT
BEGIN:STANDARD
TZOFFSETFROM:+0200
TZOFFSETTO:+0100
TZNAME:CET
DTSTART:20231029T010000
END:STANDARD
BEGIN:DAYLIGHT
TZOFFSETFROM:+0100
TZOFFSETTO:+0200
TZNAME:CEST
DTSTART:20240331T010000
END:DAYLIGHT
BEGIN:STANDARD
TZOFFSETFROM:+0200
TZOFFSETTO:+0100
TZNAME:CET
DTSTART:20241027T010000
END:STANDARD
END:VTIMEZONE
BEGIN:VEVENT
DTSTART;TZID=Europe/Berlin:20230910T120000
DTEND;TZID=Europe/Berlin:20230910T170000
DTSTAMP:20260420T223126
CREATED:20230119T115925Z
LAST-MODIFIED:20230119T115952Z
UID:3111-1694347200-1694365200@oc-delmenhorst.de
SUMMARY:Oldtimertreffen
DESCRIPTION:Oldtimertreffen zum Kramermarkt\, Rathausplatz Delmenhorst von 12:00 Uhr bis 17:00 Uhr. \nIn Zusammenarbeit mit der dwfg Delmenhorster Wirtschaftsförderungs-ges. Marketing & Tourismus.
URL:https://oc-delmenhorst.de/termin/oldtimertreffen/
END:VEVENT
END:VCALENDAR